Package: biodbNcbi Version: 1.13.0 Command: rm -rf biodbNcbi.buildbin-libdir && mkdir biodbNcbi.buildbin-libdir && /Users/biocbuild/BBS/utils/build-universal.sh biodbNcbi_1.13.0.tar.gz /Library/Frameworks/R.framework/Resources/bin/R biodbNcbi.buildbin-libdir StartedAt: 2025-06-12 00:38:37 -0400 (Thu, 12 Jun 2025) EndedAt: 2025-06-12 00:38:57 -0400 (Thu, 12 Jun 2025) EllapsedTime: 19.7 seconds RetCode: 0 Status: OK PackageFile: biodbNcbi_1.13.0.tgz PackageFileSize: 1.157 MiB