Package: biodbNcbi Version: 1.14.0 Maintainer: Pierrick Roger MaintainerEmail: pierrick.roger at cea.fr git_url: https://git.bioconductor.org/packages/biodbNcbi git_branch: RELEASE_3_22 git_last_commit: dc1f90a git_last_commit_date: 2025-10-29 11:15:40 -0500 (Wed, 29 Oct 2025)