Package: biodbChebi Version: 1.15.1 Command: /Library/Frameworks/R.framework/Resources/bin/R CMD check --install=check:biodbChebi.install-out.txt --library=/Library/Frameworks/R.framework/Resources/library --no-vignettes --timings biodbChebi_1.15.1.tar.gz StartedAt: 2025-10-06 20:06:50 -0400 (Mon, 06 Oct 2025) EndedAt: 2025-10-06 20:08:28 -0400 (Mon, 06 Oct 2025) EllapsedTime: 97.4 seconds RetCode: 0 Status: OK CheckDir: biodbChebi.Rcheck Warnings: 0