Package: biodbChebi Version: 1.15.1 Command: /Library/Frameworks/R.framework/Resources/bin/R CMD INSTALL biodbChebi StartedAt: 2025-10-16 15:18:34 -0400 (Thu, 16 Oct 2025) EndedAt: 2025-10-16 15:18:40 -0400 (Thu, 16 Oct 2025) EllapsedTime: 5.9 seconds RetCode: 0 Status: OK