Package: biodbChebi Version: 1.15.1 Command: /Library/Frameworks/R.framework/Resources/bin/R CMD build --keep-empty-dirs --no-resave-data biodbChebi StartedAt: 2025-10-16 15:58:18 -0400 (Thu, 16 Oct 2025) EndedAt: 2025-10-16 15:58:25 -0400 (Thu, 16 Oct 2025) EllapsedTime: 7.1 seconds RetCode: 0 Status: OK PackageFile: biodbChebi_1.15.1.tar.gz PackageFileSize: 312.5 KiB