Package: biocthis Version: 1.19.0 Command: /home/biocbuild/R/R/bin/R CMD INSTALL biocthis StartedAt: 2025-09-29 20:42:56 -0000 (Mon, 29 Sep 2025) EndedAt: 2025-09-29 20:43:13 -0000 (Mon, 29 Sep 2025) EllapsedTime: 17.4 seconds RetCode: 0 Status: OK