Package: biocthis Version: 1.19.0 Command: /Library/Frameworks/R.framework/Resources/bin/R CMD INSTALL biocthis StartedAt: 2025-10-02 15:13:13 -0400 (Thu, 02 Oct 2025) EndedAt: 2025-10-02 15:13:31 -0400 (Thu, 02 Oct 2025) EllapsedTime: 18.0 seconds RetCode: 0 Status: OK