Package: biocthis Version: 1.19.0 Command: /Library/Frameworks/R.framework/Resources/bin/R CMD build --keep-empty-dirs --no-resave-data biocthis StartedAt: 2025-10-02 15:45:34 -0400 (Thu, 02 Oct 2025) EndedAt: 2025-10-02 15:45:41 -0400 (Thu, 02 Oct 2025) EllapsedTime: 7.1 seconds RetCode: 0 Status: OK PackageFile: biocthis_1.19.0.tar.gz PackageFileSize: 660.3 KiB