Package: biocroxytest Version: 1.5.0 Command: F:\biocbuild\bbs-3.22-bioc\R\bin\R.exe CMD check --no-multiarch --install=check:biocroxytest.install-out.txt --library=F:\biocbuild\bbs-3.22-bioc\R\library --no-vignettes --timings biocroxytest_1.5.0.tar.gz StartedAt: 2025-08-15 00:57:30 -0400 (Fri, 15 Aug 2025) EndedAt: 2025-08-15 00:58:25 -0400 (Fri, 15 Aug 2025) EllapsedTime: 55.0 seconds RetCode: 0 Status: OK CheckDir: biocroxytest.Rcheck Warnings: 0