Package: biocroxytest Version: 1.6.0 Command: /Library/Frameworks/R.framework/Resources/bin/R CMD build --keep-empty-dirs --no-resave-data biocroxytest StartedAt: 2025-11-10 15:45:52 -0500 (Mon, 10 Nov 2025) EndedAt: 2025-11-10 15:45:55 -0500 (Mon, 10 Nov 2025) EllapsedTime: 3.0 seconds RetCode: 0 Status: OK PackageFile: biocroxytest_1.6.0.tar.gz PackageFileSize: 2.493 MiB