Package: biocroxytest Version: 1.6.0 Command: rm -rf biocroxytest.buildbin-libdir && mkdir biocroxytest.buildbin-libdir && /Users/biocbuild/BBS/utils/build-universal.sh biocroxytest_1.6.0.tar.gz /Library/Frameworks/R.framework/Resources/bin/R biocroxytest.buildbin-libdir StartedAt: 2025-11-10 23:12:44 -0500 (Mon, 10 Nov 2025) EndedAt: 2025-11-10 23:12:46 -0500 (Mon, 10 Nov 2025) EllapsedTime: 2.0 seconds RetCode: 0 Status: OK PackageFile: biocroxytest_1.6.0.tgz PackageFileSize: 143.9 KiB