Package: biocmake Version: 1.1.3 Command: chmod a+r biocmake -R && F:\biocbuild\bbs-3.22-bioc\R\bin\R.exe CMD build --keep-empty-dirs --no-resave-data biocmake StartedAt: 2025-08-14 18:44:33 -0400 (Thu, 14 Aug 2025) EndedAt: 2025-08-14 18:45:10 -0400 (Thu, 14 Aug 2025) EllapsedTime: 37.8 seconds RetCode: 0 Status: OK PackageFile: biocmake_1.1.3.tar.gz PackageFileSize: 223.5 KiB