Package: biocmake Version: 1.1.3 Command: rm -rf biocmake.buildbin-libdir && mkdir biocmake.buildbin-libdir && F:\biocbuild\bbs-3.22-bioc\R\bin\R.exe CMD INSTALL --build --library=biocmake.buildbin-libdir biocmake_1.1.3.tar.gz StartedAt: 2025-08-15 09:49:27 -0400 (Fri, 15 Aug 2025) EndedAt: 2025-08-15 09:49:39 -0400 (Fri, 15 Aug 2025) EllapsedTime: 11.6 seconds RetCode: 0 Status: OK PackageFile: biocmake_1.1.3.zip PackageFileSize: 248.1 KiB