Package: biocmake Version: 1.1.4 Command: /home/biocbuild/bbs-3.22-bioc/R/bin/R CMD INSTALL biocmake StartedAt: 2025-10-19 15:05:55 -0400 (Sun, 19 Oct 2025) EndedAt: 2025-10-19 15:06:14 -0400 (Sun, 19 Oct 2025) EllapsedTime: 18.7 seconds RetCode: 0 Status: OK