Package: biocmake Version: 1.1.4 Command: /home/biocbuild/bbs-3.22-bioc/R/bin/R CMD build --keep-empty-dirs --no-resave-data --md5 biocmake StartedAt: 2025-10-20 16:27:01 -0400 (Mon, 20 Oct 2025) EndedAt: 2025-10-20 16:27:06 -0400 (Mon, 20 Oct 2025) EllapsedTime: 5.0 seconds RetCode: 0 Status: OK PackageFile: biocmake_1.1.4.tar.gz PackageFileSize: 223.8 KiB