Package: biocGraph Version: 1.71.0 Command: /Library/Frameworks/R.framework/Resources/bin/R CMD check --install=check:biocGraph.install-out.txt --library=/Library/Frameworks/R.framework/Resources/library --no-vignettes --timings biocGraph_1.71.0.tar.gz StartedAt: 2025-10-22 19:38:14 -0400 (Wed, 22 Oct 2025) EndedAt: 2025-10-22 19:40:13 -0400 (Wed, 22 Oct 2025) EllapsedTime: 119.5 seconds RetCode: 0 Status: OK CheckDir: biocGraph.Rcheck Warnings: 0