Package: biobtreeR Version: 1.21.0 Maintainer: Tamer Gur MaintainerEmail: tgur at ebi.ac.uk git_url: https://git.bioconductor.org/packages/biobtreeR git_branch: devel git_last_commit: dc151e6 git_last_commit_date: 2025-04-15 11:53:08 -0400 (Tue, 15 Apr 2025)