Package: biobroom Version: 1.41.0 Command: /home/biocbuild/R/R/bin/R CMD INSTALL biobroom StartedAt: 2025-10-23 20:31:40 -0000 (Thu, 23 Oct 2025) EndedAt: 2025-10-23 20:31:46 -0000 (Thu, 23 Oct 2025) EllapsedTime: 6.4 seconds RetCode: 0 Status: OK