Package: biobroom Version: 1.41.0 Command: /home/biocbuild/R/R/bin/R CMD check --install=check:biobroom.install-out.txt --library=/home/biocbuild/R/R/site-library --no-vignettes --timings biobroom_1.41.0.tar.gz StartedAt: 2025-10-21 04:53:54 -0000 (Tue, 21 Oct 2025) EndedAt: 2025-10-21 04:56:01 -0000 (Tue, 21 Oct 2025) EllapsedTime: 127.1 seconds RetCode: 0 Status: WARNINGS CheckDir: biobroom.Rcheck Warnings: 1