Package: biobroom Version: 1.41.0 Command: /home/biocbuild/R/R/bin/R CMD build --keep-empty-dirs --no-resave-data biobroom StartedAt: 2025-10-20 22:13:17 -0000 (Mon, 20 Oct 2025) EndedAt: 2025-10-20 22:14:21 -0000 (Mon, 20 Oct 2025) EllapsedTime: 64.0 seconds RetCode: 0 Status: OK PackageFile: biobroom_1.41.0.tar.gz PackageFileSize: 345.5 KiB