Package: biobroom Version: 1.41.0 Command: rm -rf biobroom.buildbin-libdir && mkdir biobroom.buildbin-libdir && F:\biocbuild\bbs-3.22-bioc\R\bin\R.exe CMD INSTALL --build --library=biobroom.buildbin-libdir biobroom_1.41.0.tar.gz StartedAt: 2025-08-15 09:48:29 -0400 (Fri, 15 Aug 2025) EndedAt: 2025-08-15 09:48:51 -0400 (Fri, 15 Aug 2025) EllapsedTime: 22.2 seconds RetCode: 0 Status: OK PackageFile: biobroom_1.41.0.zip PackageFileSize: 603.5 KiB