Package: biobroom Version: 1.41.0 Command: /home/biocbuild/bbs-3.22-bioc/R/bin/R CMD INSTALL biobroom StartedAt: 2025-10-24 15:23:40 -0400 (Fri, 24 Oct 2025) EndedAt: 2025-10-24 15:23:46 -0400 (Fri, 24 Oct 2025) EllapsedTime: 5.8 seconds RetCode: 0 Status: OK