Package: biobroom Version: 1.41.0 Command: /home/biocbuild/bbs-3.22-bioc/R/bin/R CMD build --keep-empty-dirs --no-resave-data --md5 biobroom StartedAt: 2025-10-23 16:31:11 -0400 (Thu, 23 Oct 2025) EndedAt: 2025-10-23 16:32:00 -0400 (Thu, 23 Oct 2025) EllapsedTime: 49.0 seconds RetCode: 0 Status: OK PackageFile: biobroom_1.41.0.tar.gz PackageFileSize: 523.7 KiB