Package: biobroom Version: 1.41.0 Command: /Library/Frameworks/R.framework/Resources/bin/R CMD build --keep-empty-dirs --no-resave-data biobroom StartedAt: 2025-10-19 16:13:56 -0400 (Sun, 19 Oct 2025) EndedAt: 2025-10-19 16:15:04 -0400 (Sun, 19 Oct 2025) EllapsedTime: 68.8 seconds RetCode: 0 Status: OK PackageFile: biobroom_1.41.0.tar.gz PackageFileSize: 580.2 KiB