Package: biobroom Version: 1.41.0 Command: /Library/Frameworks/R.framework/Resources/bin/R CMD INSTALL biobroom StartedAt: 2025-10-19 15:07:07 -0400 (Sun, 19 Oct 2025) EndedAt: 2025-10-19 15:07:10 -0400 (Sun, 19 Oct 2025) EllapsedTime: 2.6 seconds RetCode: 0 Status: OK