Package: bioCancer Version: 1.37.0 Command: /home/biocbuild/R/R/bin/R CMD INSTALL bioCancer StartedAt: 2025-10-20 21:15:45 -0000 (Mon, 20 Oct 2025) EndedAt: 2025-10-20 21:16:56 -0000 (Mon, 20 Oct 2025) EllapsedTime: 70.5 seconds RetCode: 0 Status: OK