Package: bioCancer Version: 1.37.0 Command: /home/biocbuild/R/R/bin/R CMD check --install=check:bioCancer.install-out.txt --library=/home/biocbuild/R/R/site-library --no-vignettes --timings bioCancer_1.37.0.tar.gz StartedAt: 2025-10-21 04:55:16 -0000 (Tue, 21 Oct 2025) EndedAt: 2025-10-21 06:02:15 -0000 (Tue, 21 Oct 2025) EllapsedTime: 4019.5 seconds RetCode: None Status: TIMEOUT CheckDir: bioCancer.Rcheck Warnings: NA