Package: bioCancer Version: 1.37.0 Command: F:\biocbuild\bbs-3.22-bioc\R\bin\R.exe CMD check --no-multiarch --install=check:bioCancer.install-out.txt --library=F:\biocbuild\bbs-3.22-bioc\R\library --no-vignettes --timings bioCancer_1.37.0.tar.gz StartedAt: 2025-08-15 00:54:30 -0400 (Fri, 15 Aug 2025) EndedAt: 2025-08-15 01:09:17 -0400 (Fri, 15 Aug 2025) EllapsedTime: 887.3 seconds RetCode: 0 Status: OK CheckDir: bioCancer.Rcheck Warnings: 0