Package: bioCancer Version: 1.37.0 Command: /home/biocbuild/bbs-3.22-bioc/R/bin/R CMD check --install=check:bioCancer.install-out.txt --library=/home/biocbuild/bbs-3.22-bioc/R/site-library --timings bioCancer_1.37.0.tar.gz StartedAt: 2025-10-19 21:28:26 -0400 (Sun, 19 Oct 2025) EndedAt: 2025-10-19 21:34:43 -0400 (Sun, 19 Oct 2025) EllapsedTime: 377.4 seconds RetCode: 1 Status: ERROR CheckDir: bioCancer.Rcheck Warnings: NA