Package: bioCancer Version: 1.37.0 Command: /Library/Frameworks/R.framework/Resources/bin/R CMD INSTALL bioCancer StartedAt: 2025-10-23 15:43:51 -0400 (Thu, 23 Oct 2025) EndedAt: 2025-10-23 15:45:08 -0400 (Thu, 23 Oct 2025) EllapsedTime: 76.9 seconds RetCode: 0 Status: OK