Package: bioCancer Version: 1.37.0 Command: /Library/Frameworks/R.framework/Resources/bin/R CMD INSTALL bioCancer StartedAt: 2025-10-20 15:30:58 -0400 (Mon, 20 Oct 2025) EndedAt: 2025-10-20 15:31:20 -0400 (Mon, 20 Oct 2025) EllapsedTime: 22.0 seconds RetCode: 0 Status: OK