Package: bioCancer Version: 1.37.0 Command: /Library/Frameworks/R.framework/Resources/bin/R CMD check --install=check:bioCancer.install-out.txt --library=/Library/Frameworks/R.framework/Resources/library --no-vignettes --timings bioCancer_1.37.0.tar.gz StartedAt: 2025-10-19 18:36:33 -0400 (Sun, 19 Oct 2025) EndedAt: 2025-10-19 18:39:15 -0400 (Sun, 19 Oct 2025) EllapsedTime: 162.0 seconds RetCode: 1 Status: ERROR CheckDir: bioCancer.Rcheck Warnings: NA