Package: bioCancer Version: 1.37.0 Command: rm -rf bioCancer.buildbin-libdir && mkdir bioCancer.buildbin-libdir && /Users/biocbuild/BBS/utils/build-universal.sh bioCancer_1.37.0.tar.gz /Library/Frameworks/R.framework/Resources/bin/R bioCancer.buildbin-libdir StartedAt: 2025-10-19 22:51:58 -0400 (Sun, 19 Oct 2025) EndedAt: 2025-10-19 22:52:24 -0400 (Sun, 19 Oct 2025) EllapsedTime: 25.9 seconds RetCode: 0 Status: OK PackageFile: bioCancer_1.37.0.tgz PackageFileSize: 7.424 MiB