Package: bigmelon Version: 1.35.0 Command: /Library/Frameworks/R.framework/Resources/bin/R CMD INSTALL bigmelon StartedAt: 2025-10-01 15:33:34 -0400 (Wed, 01 Oct 2025) EndedAt: 2025-10-01 15:33:53 -0400 (Wed, 01 Oct 2025) EllapsedTime: 19.1 seconds RetCode: 0 Status: OK