Package: bgx Version: 1.75.1 Command: /home/biocbuild/R/R/bin/R CMD INSTALL bgx StartedAt: 2025-10-16 21:28:10 -0000 (Thu, 16 Oct 2025) EndedAt: 2025-10-16 21:28:44 -0000 (Thu, 16 Oct 2025) EllapsedTime: 34.2 seconds RetCode: 0 Status: OK