Package: bgx Version: 1.75.1 Command: /home/biocbuild/R/R/bin/R CMD check --install=check:bgx.install-out.txt --library=/home/biocbuild/R/R/site-library --no-vignettes --timings bgx_1.75.1.tar.gz StartedAt: 2025-10-21 04:51:57 -0000 (Tue, 21 Oct 2025) EndedAt: 2025-10-21 04:53:54 -0000 (Tue, 21 Oct 2025) EllapsedTime: 116.1 seconds RetCode: 0 Status: OK CheckDir: bgx.Rcheck Warnings: 0