Package: bgx Version: 1.75.1 Command: /home/biocbuild/R/R/bin/R CMD build --keep-empty-dirs --no-resave-data bgx StartedAt: 2025-10-16 23:28:26 -0000 (Thu, 16 Oct 2025) EndedAt: 2025-10-16 23:29:27 -0000 (Thu, 16 Oct 2025) EllapsedTime: 61.0 seconds RetCode: 0 Status: OK PackageFile: bgx_1.75.1.tar.gz PackageFileSize: 2.614 MiB