Package: bgx Version: 1.75.0 Command: F:\biocbuild\bbs-3.22-bioc\R\bin\R.exe CMD INSTALL bgx StartedAt: 2025-08-14 15:48:58 -0400 (Thu, 14 Aug 2025) EndedAt: 2025-08-14 15:50:25 -0400 (Thu, 14 Aug 2025) EllapsedTime: 87.8 seconds RetCode: 0 Status: OK