Package: bgx Version: 1.75.0 Command: chmod a+r bgx -R && F:\biocbuild\bbs-3.22-bioc\R\bin\R.exe CMD build --keep-empty-dirs --no-resave-data bgx StartedAt: 2025-08-14 18:39:53 -0400 (Thu, 14 Aug 2025) EndedAt: 2025-08-14 18:46:26 -0400 (Thu, 14 Aug 2025) EllapsedTime: 393.5 seconds RetCode: 0 Status: OK PackageFile: bgx_1.75.0.tar.gz PackageFileSize: 4.831 MiB