Package: bgx Version: 1.75.0 Command: rm -rf bgx.buildbin-libdir && mkdir bgx.buildbin-libdir && F:\biocbuild\bbs-3.22-bioc\R\bin\R.exe CMD INSTALL --build --library=bgx.buildbin-libdir bgx_1.75.0.tar.gz StartedAt: 2025-08-15 09:48:10 -0400 (Fri, 15 Aug 2025) EndedAt: 2025-08-15 09:49:54 -0400 (Fri, 15 Aug 2025) EllapsedTime: 104.3 seconds RetCode: 0 Status: OK PackageFile: bgx_1.75.0.zip PackageFileSize: 549.5 KiB