Package: bgx Version: 1.75.1 Command: /Library/Frameworks/R.framework/Resources/bin/R CMD INSTALL bgx StartedAt: 2025-10-19 15:19:30 -0400 (Sun, 19 Oct 2025) EndedAt: 2025-10-19 15:20:25 -0400 (Sun, 19 Oct 2025) EllapsedTime: 55.4 seconds RetCode: 0 Status: OK