Package: bgx Version: 1.75.1 Command: rm -rf bgx.buildbin-libdir && mkdir bgx.buildbin-libdir && /Users/biocbuild/BBS/utils/build-universal.sh bgx_1.75.1.tar.gz /Library/Frameworks/R.framework/Resources/bin/R bgx.buildbin-libdir StartedAt: 2025-10-20 02:58:01 -0400 (Mon, 20 Oct 2025) EndedAt: 2025-10-20 02:59:00 -0400 (Mon, 20 Oct 2025) EllapsedTime: 58.7 seconds RetCode: 0 Status: OK PackageFile: bgx_1.75.1.tgz PackageFileSize: 401.8 KiB