Package: bgx Version: 1.75.1 Command: /Library/Frameworks/R.framework/Resources/bin/R CMD build --keep-empty-dirs --no-resave-data bgx StartedAt: 2025-10-19 15:44:23 -0400 (Sun, 19 Oct 2025) EndedAt: 2025-10-19 15:44:46 -0400 (Sun, 19 Oct 2025) EllapsedTime: 23.2 seconds RetCode: 0 Status: OK PackageFile: bgx_1.75.1.tar.gz PackageFileSize: 2.62 MiB