Package: bgx Version: 1.75.1 Command: rm -rf bgx.buildbin-libdir && mkdir bgx.buildbin-libdir && /Users/biocbuild/BBS/utils/build-universal.sh bgx_1.75.1.tar.gz /Library/Frameworks/R.framework/Resources/bin/R bgx.buildbin-libdir StartedAt: 2025-10-19 22:51:48 -0400 (Sun, 19 Oct 2025) EndedAt: 2025-10-19 22:52:03 -0400 (Sun, 19 Oct 2025) EllapsedTime: 15.3 seconds RetCode: 0 Status: OK PackageFile: bgx_1.75.1.tgz PackageFileSize: 393.2 KiB