Package: bettr Version: 1.5.4 Maintainer: Charlotte Soneson MaintainerEmail: charlottesoneson at gmail.com git_url: https://git.bioconductor.org/packages/bettr git_branch: devel git_last_commit: c275672 git_last_commit_date: 2025-09-23 09:57:25 -0400 (Tue, 23 Sep 2025)