Package: betaHMM Version: 1.5.1 Command: /home/biocbuild/R/R/bin/R CMD build --keep-empty-dirs --no-resave-data betaHMM StartedAt: 2025-10-16 23:26:28 -0000 (Thu, 16 Oct 2025) EndedAt: 2025-10-16 23:33:31 -0000 (Thu, 16 Oct 2025) EllapsedTime: 423.1 seconds RetCode: 0 Status: OK PackageFile: betaHMM_1.5.1.tar.gz PackageFileSize: 3.571 MiB