Package: betaHMM Version: 1.5.0 Command: F:\biocbuild\bbs-3.22-bioc\R\bin\R.exe CMD check --no-multiarch --install=check:betaHMM.install-out.txt --library=F:\biocbuild\bbs-3.22-bioc\R\library --no-vignettes --timings betaHMM_1.5.0.tar.gz StartedAt: 2025-08-15 00:49:45 -0400 (Fri, 15 Aug 2025) EndedAt: 2025-08-15 01:06:00 -0400 (Fri, 15 Aug 2025) EllapsedTime: 974.6 seconds RetCode: 0 Status: OK CheckDir: betaHMM.Rcheck Warnings: 0