Package: betaHMM Version: 1.5.0 Command: rm -rf betaHMM.buildbin-libdir && mkdir betaHMM.buildbin-libdir && F:\biocbuild\bbs-3.22-bioc\R\bin\R.exe CMD INSTALL --build --library=betaHMM.buildbin-libdir betaHMM_1.5.0.tar.gz StartedAt: 2025-08-15 09:47:51 -0400 (Fri, 15 Aug 2025) EndedAt: 2025-08-15 09:48:38 -0400 (Fri, 15 Aug 2025) EllapsedTime: 46.6 seconds RetCode: 0 Status: OK PackageFile: betaHMM_1.5.0.zip PackageFileSize: 3.536 MiB