Package: betaHMM Version: 1.5.1 Command: /home/biocbuild/bbs-3.22-bioc/R/bin/R CMD check --install=check:betaHMM.install-out.txt --library=/home/biocbuild/bbs-3.22-bioc/R/site-library --timings betaHMM_1.5.1.tar.gz StartedAt: 2025-10-19 21:24:53 -0400 (Sun, 19 Oct 2025) EndedAt: 2025-10-19 21:38:07 -0400 (Sun, 19 Oct 2025) EllapsedTime: 793.8 seconds RetCode: 0 Status: OK CheckDir: betaHMM.Rcheck Warnings: 0