Package: betaHMM Version: 1.5.1 Command: /home/biocbuild/bbs-3.22-bioc/R/bin/R CMD build --keep-empty-dirs --no-resave-data --md5 betaHMM StartedAt: 2025-10-19 16:26:50 -0400 (Sun, 19 Oct 2025) EndedAt: 2025-10-19 16:31:42 -0400 (Sun, 19 Oct 2025) EllapsedTime: 292.3 seconds RetCode: 0 Status: OK PackageFile: betaHMM_1.5.1.tar.gz PackageFileSize: 3.842 MiB